BEGIN:VCALENDAR
VERSION:2.0
PRODID:-//イルチブレインヨガ町田スタジオ - ECPv6.15.20//NONSGML v1.0//EN
CALSCALE:GREGORIAN
METHOD:PUBLISH
X-WR-CALNAME:イルチブレインヨガ町田スタジオ
X-ORIGINAL-URL:https://ilchibrainyoga-machida.com
X-WR-CALDESC:イルチブレインヨガ町田スタジオ のイベント
REFRESH-INTERVAL;VALUE=DURATION:PT1H
X-Robots-Tag:noindex
X-PUBLISHED-TTL:PT1H
BEGIN:VTIMEZONE
TZID:Asia/Tokyo
BEGIN:STANDARD
TZOFFSETFROM:+0900
TZOFFSETTO:+0900
TZNAME:JST
DTSTART:20250101T000000
END:STANDARD
END:VTIMEZONE
BEGIN:VEVENT
DTSTART;TZID=Asia/Tokyo:20260328T120000
DTEND;TZID=Asia/Tokyo:20260329T190000
DTSTAMP:20260420T033709
CREATED:20260303T075604Z
LAST-MODIFIED:20260303T075604Z
UID:7959-1774699200-1774810800@ilchibrainyoga-machida.com
SUMMARY:腸もみほぐし体験会
DESCRIPTION:① 腸もみほぐし30分＋② 腸セルフケア体験30分\n① 腸もみ30分\n体や心の不調は、腸から来ていることも多いです。\n腸もみほぐしの前に、気軽にご相談ください。\n腸が解れることで、気、血液循環、呼吸の流れもととのいます。\n腸もみの後は、呼吸瞑想の体験ができます。 \n② 腸セルフケア体験30分\nライフスタイルに合わせた腸のセルフケアをご提案。\nご体験当日から取り組めるものを体験できます。 \n開催日：3月28日(土)29日(日) \n時間：下記4タイムより希望の時間をお選びください。\n12：00～13：00、14:00～15:00、16:00～17:00、18:00～19:00 \n会場名：イルチブレインヨガ町田スタジオ\n会場住所：〒194-0021 東京都町田市中町1-19-6 魚貞ビル4階\n参加費：3000円(税込)\nトレーナー：麻生友子 \n持ち物：腸もみほぐし体験は、お洋服の上からさせていただきますので、\n当日は、体を締めつけない服装でご来店ください。\n問合せ電話：042-721-0688 \nスタジオLINE：https://lin.ee/QmQdjAQ \n\n\n  \n\n\n\n\n\n \n体験ご希望日時\n		(必須)　※ご注意：月曜日は定休日です\n		\n \n—以下から選択してください—101419時 —以下から選択してください—00分 ～ のクラス\n \nお名前\n		 (必須)\n		\n \n\n \nメールアドレス\n		 (必須)\n		\n \n\n \nお電話番号（携帯可）\n		 (必須)\n		\n \n\n \nこちらのスタジオを何でお知りになりましたか？\n		 (必須)\n		\n \nチラシ看板書籍雑誌紹介Yahoo検索Google検索口コミその他Webサイト\n \nご関心があること、習得したいこと（複数可）\n \n自然治癒力アップ集中力アップダイエット体質改善ストレス緩和丹田強化呼吸法瞑想法リラックス運動不足解消姿勢がよくなりたいその他（備考欄にご記入ください）\n \n備考欄\n \n\n \n\n\n \n\n Δ
URL:https://ilchibrainyoga-machida.com/event/machida-82/
LOCATION:イルチブレインヨガ町田スタジオ\, 東京都町田市中町1-19-6魚貞ビル４F
ATTACH;FMTTYPE=image/png:https://ilchibrainyoga-machida.com/wp-content/uploads/2026/03/KakaoTalk_20260302_132619444.png
END:VEVENT
END:VCALENDAR